BEGIN:VCALENDAR
VERSION:2.0
PRODID:https://github.com/derhansen/sf_event_mgt
METHOD:PUBLISH
BEGIN:VEVENT
UID:5-5@www.mv-stflorian.at
CLASS: PUBLIC
SUMMARY:Fest der Jubelpaare
DESCRIPTION:Wir freuen uns auf Ihren Besuch ...
LOCATION:Stiftsbasilika St. Florian
DTSTAMP:20251107T132004Z
DTSTART:20260607T064000Z
END:VEVENT
END:VCALENDAR
